BEGIN:VCALENDAR
VERSION:2.0
PRODID:-//23Creative//NONSGML v1.0//EN
CALSCALE:GREGORIAN
BEGIN:VEVENT
LOCATION:Flemington Rd & Northbourne Avenue\, Mitchell ACT 2602
DESCRIPTION:Three halls at EPIC will be packed with unique designs and local produce. Entry is free and parking is free. Handmade has 260 stalls of artisan Australian pieces.
DTSTART:20190322T230000Z
DTEND:20190324T050000Z
SUMMARY:Handmade Market Canberra
URL;VALUE=URI:https://handmadecanberra.com.au
DTSTAMP:20190226T080528Z
UID:5c758df8604b9
BEGIN:VALARM
ACTION:DISPLAY
DESCRIPTION:Reminder
TRIGGER:-PT24H
REPEAT:1
DURATION:PT15M
END:VALARM
END:VEVENT
END:VCALENDAR